BEGIN:VCALENDAR
VERSION:2.0
PRODID:-//GRÜNE Mittelland-Nord - ECPv6.15.15//NONSGML v1.0//EN
CALSCALE:GREGORIAN
METHOD:PUBLISH
X-WR-CALNAME:GRÜNE Mittelland-Nord
X-ORIGINAL-URL:https://gruene-mittelland-nord.ch
X-WR-CALDESC:Veranstaltungen für GRÜNE Mittelland-Nord
REFRESH-INTERVAL;VALUE=DURATION:PT1H
X-Robots-Tag:noindex
X-PUBLISHED-TTL:PT1H
BEGIN:VTIMEZONE
TZID:Europe/Zurich
BEGIN:DAYLIGHT
TZOFFSETFROM:+0100
TZOFFSETTO:+0200
TZNAME:CEST
DTSTART:20250330T010000
END:DAYLIGHT
BEGIN:STANDARD
TZOFFSETFROM:+0200
TZOFFSETTO:+0100
TZNAME:CET
DTSTART:20251026T010000
END:STANDARD
BEGIN:DAYLIGHT
TZOFFSETFROM:+0100
TZOFFSETTO:+0200
TZNAME:CEST
DTSTART:20260329T010000
END:DAYLIGHT
BEGIN:STANDARD
TZOFFSETFROM:+0200
TZOFFSETTO:+0100
TZNAME:CET
DTSTART:20261025T010000
END:STANDARD
BEGIN:DAYLIGHT
TZOFFSETFROM:+0100
TZOFFSETTO:+0200
TZNAME:CEST
DTSTART:20270328T010000
END:DAYLIGHT
BEGIN:STANDARD
TZOFFSETFROM:+0200
TZOFFSETTO:+0100
TZNAME:CET
DTSTART:20271031T010000
END:STANDARD
END:VTIMEZONE
BEGIN:VEVENT
DTSTART;TZID=Europe/Zurich:20260614T100000
DTEND;TZID=Europe/Zurich:20260614T120000
DTSTAMP:20260422T180616
CREATED:20260307T060010Z
LAST-MODIFIED:20260307T060010Z
UID:5055-1781431200-1781438400@gruene-mittelland-nord.ch
SUMMARY:Eidg. und kantonale Volksabstimmung vom 14. Juni 2026
DESCRIPTION:
URL:https://gruene-mittelland-nord.ch/event/eidg-und-kantonale-volksabstimmung-vom-14-juni-2026
END:VEVENT
END:VCALENDAR